Workbook

Sheet Title Page
B3: Name of Sponsor:
B4: City:
B5: State:
B7: Seeking: | D7: CAAHEP Accreditation
C48: Initial | D48: AL | E48: Alabama
C49: 1st Continuing | D49: AK | E49: Alaska
C50: Continuing | D50: AZ | E50: Arizona
D51: AR | E51: Arkansas
D52: CA | E52: California
D53: CO | E53: Colorado
D54: CT | E54: Connecticut
D55: DC | E55: Washington, DC
D56: DE | E56: Delaware
D57: FL | E57: Florida
D58: GA | E58: Georgia
D59: HI | E59: Hawaii
D60: ID | E60: Idaho
D61: IL | E61: Illinois
D62: IN | E62: Indiana
... D98: WY | E98: Wyoming

Sheet A-Resource Assessment Matrix 
A1: ='Title Page'!C3 -> 0
A2: ='Title Page'!C4 -> 0 | B2: ='Title Page'!C5 -> 0
A3: Appendix A: Resource Assessment Matrix
A4: Accredited programs must conduct Resource Assessment at least annually (Standard IIID) and are required to complete ALL columns of this matrix.
A5: If programs have identified deficiencies in resources, an action plan and follow up are required to address those deficiencies.
A6: Listed Purpose statements and Measurement Systems are minimally required. Programs may write additional Purpose statements and/or add Measurement Systems for resource(s).
A8: # | B8: (A) RESOURCE | C8: (B) PURPOSE(S) (Role(s) of the resource in the program) | D8: (C) MEASUREMENT SYSTEM (types of measurements) | E8: (D) DATE (S) OF MEASUREMENT [the time during the year when data is collected (e.g., month(s)] | F8: (E) RESULTS and ANALYSIS [Include the # meeting the cut score and the # that fell below the cut score] | G8: (F) ACTION PLAN / FOLLOW UP [What is to be done, Who is responsible, Due Date, Expected result]
A9: 1. | B9: FACULTY | C9: Provide instruction, supervision, and timely assessments of student progress in meeting program requirements. Work with advisory committee, administration, clinical affiliates and communities of interest to enhance the program. | D9: 1. Program Personnel Resource Survey 2. Student Resource Survey
B10: Additional Faculty Purposes =>
A11: 2. | B11: MEDICAL DIRECTOR | C11: Fulfill responsibilities specified in accreditation Standard III.B.2.a. | D11: 1. Program Personnel Resource Survey 2. Student Resource Survey
B12: Additional Medical Director Purposes =>
A13: 3. | B13: SUPPORT PERSONNEL (clerical, academic, ancillary) | C13: Provide support personnel/services to ensure achievement of program goals and outcomes (e.g. admissions, registrar, advising, tutoring, clerical) | D13: 1. Program Personnel Resource Survey 2. Student Resource Survey
B14: Additional Personnel Purposes =>
A15: 4. | B15: CURRICULUM | C15: Provide specialty core and support courses to ensure the achievement of program goals and learning domains. Meet or exceed the content and competency demands of the latest edition of the documents referenced in Standard III.C. | D15: 1. Program Personnel Resource Survey 2. Student Resource Survey
B16: Additional Curriculum Purposes =>
A17: 5. | B17: FINANCIAL RESOURCES (fiscal support, acquisition/maintenance of equipment & supplies, continuing education) | C17: Provide fiscal support for personnel, acquisition and maintenance of equipment/supplies, and faculty/staff continuing education. | D17: 1. Program Personnel Resource Survey 2. Student Resource Survey
B18: Additional Financial Purposes =>
A19: 6. | B19: FACILITIES (classroom, lab, offices, ancillary) | C19: Provide adequate classroom, laboratory, and ancillary facilities for students and faculty. | D19: 1. Program Personnel Resource Survey 2. Student Resource Survey
B20: Additional Facillities Purposes =>
A21: 7. | B21: EQUIPMENT and SUPPLIES | C21: Provide a variety of equipment and supplies to prepare students for clinical experiences. | D21: 1. Program Personnel Resource Survey 2. Student Resource Survey
B22: Additional Equip/Supplies Purposes =>
A23: 8. | B23: CLINICAL RESOURCES (affiliations) | C23: Provide a variety of clinical experiences to achieve the program goals and outcomes. | D23: 1. Program Personnel Resource Survey 2. Student Resource Survey
B24: Additional Clinical/Field Purposes =>
A25: 9. | B25: LEARNING RESOURCES (print, electronic reference materials; computer resources) | C25: Provide learning resources to support student learning and faculty instruction. | D25: 1. Program Personnel Resource Survey 2. Student Resource Survey
B26: Additional Learning Resources Purposes =>
A27: 10. | B27: FACULTY/STAFF CONTINUING EDUCATION | C27: Provide time and resources for faculty and staff continuing education to maintain current knowledge and practice. | D27: 1. Program Personnel Resource Survey
B28: Additional Continuing Ed Purposes =>
A29: 11. | B29: EDUCATIONAL INTERACTION WITH PHYSICIANS | C29: Provide educational interactions with physicians, as ensured by the Medical Director. | D29: 1. Program Personnel Resource Survey 2. Student Resource Survey
B30: Additional Physician Interaction Purposes =>

Sheet C2-Other Faculty
A1: ='Title Page'!C3 -> 0
A2: ='Title Page'!C4 -> 0 | B2: ='Title Page'!C5 -> 0
A3: Appendix C: Other Paid Faculty
A4: List all the faculty involved with the program and place a copy of each person's curriculum vita including key personnel (program director, medical director) and any paid faculty, in the Appendix C1 subfolder, with easily identifiable filenames. | K4: Paid | L4: Yes
A5: Name | B5: Position Title | C5: Paid or Non-Paid | D5: Average # of work hours/month (when class is in session) | E5: Didactic Lecture | G5: Lab Instructor | I5: Clinical Preceptor | K5: Non-Paid | L5: No | M5: Total
E6: Yes / No | F6: % of Time | G6: Yes / No | H6: % of Time | I6: Yes / No | J6: % of Time | M6: % of Time

Sheet D-Course Requirements
A1: ='Title Page'!C3 -> 0
A2: ='Title Page'!C4 -> 0 | B2: ='Title Page'!C5 -> 0
A3: Appendix D: Program Course Requirements Table
A4: List all the courses that are required for completion of the Anesthesiologist Assistant program in the sequence in which the students would typically enroll in them.
A5: Sequence by Term | B5: Course Number | C5: Course Title | D5: # of Credits | E5: # of Lecture Hours | F5: # of Lab Hours | G5: # of Clinical Hours
C76: Totals | D76: =SUM(D6:D75) -> 0 | E76: =SUM(E6:E75) -> 0 | F76: =SUM(F6:F75) -> 0 | G76: =SUM(G6:G75) -> 0

Sheet E-Clinical Affiliate Data
A1: ='Title Page'!C3 -> 0
A2: ='Title Page'!C4 -> 0 | B2: ='Title Page'!C5 -> 0
A3: Appendix E: Clinical Affiliate Institutional Data
F4: Chief Administrative Officer | H4: Contact Person | N4: Preceptors | P4: Student Rotations
A5: Name of Clinical Site | B5: Address 1 | C5: City | D5: State | E5: ZIP | F5: Name | G5: Telephone # | H5: Name | I5: Email | J5: Distance from Program (miles) | K5: Signed, Current Affiliation Agreement | L5: WHO Supervises Students? | M5: Policies? | N5: Trained | O5: # of Hours | P5: Frequency | Q5: # of Rotations Available Each Year | R5: Max # of Students Per Rotation | S5: Average # of Shifts for the Rotation | T5: Average # of Hours Per Shift

Sheet F-Number of Student Cases
A1: ='Title Page'!C3 -> 0
A2: ='Title Page'!C4 -> 0 | B2: ='Title Page'!C5 -> 0
A3: Appendix F: Number of Cases | H3: Yes
A4: Procedure | B4: # Required by Program | C4: Average # Per Student | D4: Range Per Student | E4: Are Sims Used? | F4: # Sims that = 1 pt | H4: No
A5: Anesthetics Delivered | E5: NA | F5: NA
A6: Patient Contact Hours | E6: NA | F6: NA
A7: Clinical Contact Hours | E7: NA | F7: NA
A8: Geriatric (65+ years)
A9: Pediatric (0-18 years)
A10: ASA Class III and IV
A11: Emergent/Trauma
A12: Intraabdominal
A13: Intra-Cranial
A14: ENT/Head and Neck
A15: Intrathoracic- Heart
A16: Intrathoracic - Lung
A17: Obstetrical cases
A18: Vascular
A19: General Anesthesia
... A37: Oral/Naso Gastric Tube Placement

Sheet Lists
A1: Yes | B1: Hospital Personnel | C1: Monthly | D1: ALABAMA | E1: AL
A2: No | B2: Program Personnel | C2: Weekly | D2: ALASKA | E2: AK
C3: None at present | D3: ARIZONA | E3: AZ
C4: Other | D4: ARKANSAS | E4: AR
D5: CALIFORNIA | E5: CA
D6: COLORADO | E6: CO
D7: CONNECTICUT | E7: CT
D8: DELAWARE | E8: DE
D9: FLORIDA | E9: FL
D10: GEORGIA | E10: GA
D11: HAWAII | E11: HI
D12: IDAHO | E12: ID
D13: ILLINOIS | E13: IL
D14: INDIANA | E14: IN
D15: IOWA | E15: IA
D16: KANSAS | E16: KS
... D50: WYOMING | E50: WY

Sheet M-Emails-Students_PgmPersonnel
A1: ='Title Page'!C3 -> 0
A2: ='Title Page'!C4 -> 0 | B2: ='Title Page'!C5 -> 0
A3: Current Students | G3: Program Personnel + Advisory Committee Members
A4: Email_Address | B4: First_Name | C4: Last_Name | D4: Graduation Year | G4: Email_Address | H4: First_Name | I4: Last_Name | J4: Title (Dr., Mr., Ms.) | K4: Role (faculty, advisory committee, MD, PD)
